BEGIN:VCALENDAR
VERSION:2.0
PRODID:-//Village of Riverlea, Ohio - ECPv6.15.20//NONSGML v1.0//EN
CALSCALE:GREGORIAN
METHOD:PUBLISH
X-ORIGINAL-URL:https://www.riverleaohio.org
X-WR-CALDESC:Events for Village of Riverlea, Ohio
REFRESH-INTERVAL;VALUE=DURATION:PT1H
X-Robots-Tag:noindex
X-PUBLISHED-TTL:PT1H
BEGIN:VTIMEZONE
TZID:America/New_York
BEGIN:DAYLIGHT
TZOFFSETFROM:-0500
TZOFFSETTO:-0400
TZNAME:EDT
DTSTART:20250309T070000
END:DAYLIGHT
BEGIN:STANDARD
TZOFFSETFROM:-0400
TZOFFSETTO:-0500
TZNAME:EST
DTSTART:20251102T060000
END:STANDARD
BEGIN:DAYLIGHT
TZOFFSETFROM:-0500
TZOFFSETTO:-0400
TZNAME:EDT
DTSTART:20260308T070000
END:DAYLIGHT
BEGIN:STANDARD
TZOFFSETFROM:-0400
TZOFFSETTO:-0500
TZNAME:EST
DTSTART:20261101T060000
END:STANDARD
BEGIN:DAYLIGHT
TZOFFSETFROM:-0500
TZOFFSETTO:-0400
TZNAME:EDT
DTSTART:20270314T070000
END:DAYLIGHT
BEGIN:STANDARD
TZOFFSETFROM:-0400
TZOFFSETTO:-0500
TZNAME:EST
DTSTART:20271107T060000
END:STANDARD
END:VTIMEZONE
BEGIN:VEVENT
DTSTART;TZID=America/New_York:20260302T190000
DTEND;TZID=America/New_York:20260302T210000
DTSTAMP:20260423T193831
CREATED:20251230T034139Z
LAST-MODIFIED:20251230T034139Z
UID:5949-1772478000-1772485200@www.riverleaohio.org
SUMMARY:Infrastructure Committee Meeting
DESCRIPTION:Monthy Infrastructure Committee Meeting.  Meets on the first Monday of each month.
URL:https://www.riverleaohio.org/event/infrastructure-committee-meeting-98/
LOCATION:Old Worthington Library – Owl Meeting Room\, 820 High St\, Worthington\, 43085\, United States
CATEGORIES:Committee Meetings,Infrastructure Committee
END:VEVENT
BEGIN:VEVENT
DTSTART;TZID=America/New_York:20260309T190000
DTEND;TZID=America/New_York:20260309T210000
DTSTAMP:20260423T193831
CREATED:20251230T032321Z
LAST-MODIFIED:20251230T032321Z
UID:5910-1773082800-1773090000@www.riverleaohio.org
SUMMARY:Planning Committee Meeting
DESCRIPTION:Monthly Planning Commission meeting.  Meets on the second Monday of each month.
URL:https://www.riverleaohio.org/event/planning-committee-meeting-87/
LOCATION:Old Worthington Library – Owl Meeting Room\, 820 High St\, Worthington\, 43085\, United States
CATEGORIES:Committee Meetings,Planning Commission
END:VEVENT
BEGIN:VEVENT
DTSTART;VALUE=DATE:20260329
DTEND;VALUE=DATE:20260330
DTSTAMP:20260423T193831
CREATED:20251230T032337Z
LAST-MODIFIED:20251230T034146Z
UID:5915-1774742400-1774828799@www.riverleaohio.org
SUMMARY:April Variance Application Deadline
DESCRIPTION:Deadline to submit an application for a Variance before the next Planning Commission Meeting scheduled in April
URL:https://www.riverleaohio.org/event/april-variance-application-deadline-9/
CATEGORIES:Planning Commission
END:VEVENT
END:VCALENDAR