BEGIN:VCALENDAR
VERSION:2.0
PRODID:-//Village of Riverlea, Ohio - ECPv6.15.20//NONSGML v1.0//EN
CALSCALE:GREGORIAN
METHOD:PUBLISH
X-WR-CALNAME:Village of Riverlea, Ohio
X-ORIGINAL-URL:https://www.riverleaohio.org
X-WR-CALDESC:Events for Village of Riverlea, Ohio
REFRESH-INTERVAL;VALUE=DURATION:PT1H
X-Robots-Tag:noindex
X-PUBLISHED-TTL:PT1H
BEGIN:VTIMEZONE
TZID:America/New_York
BEGIN:DAYLIGHT
TZOFFSETFROM:-0500
TZOFFSETTO:-0400
TZNAME:EDT
DTSTART:20250309T070000
END:DAYLIGHT
BEGIN:STANDARD
TZOFFSETFROM:-0400
TZOFFSETTO:-0500
TZNAME:EST
DTSTART:20251102T060000
END:STANDARD
BEGIN:DAYLIGHT
TZOFFSETFROM:-0500
TZOFFSETTO:-0400
TZNAME:EDT
DTSTART:20260308T070000
END:DAYLIGHT
BEGIN:STANDARD
TZOFFSETFROM:-0400
TZOFFSETTO:-0500
TZNAME:EST
DTSTART:20261101T060000
END:STANDARD
BEGIN:DAYLIGHT
TZOFFSETFROM:-0500
TZOFFSETTO:-0400
TZNAME:EDT
DTSTART:20270314T070000
END:DAYLIGHT
BEGIN:STANDARD
TZOFFSETFROM:-0400
TZOFFSETTO:-0500
TZNAME:EST
DTSTART:20271107T060000
END:STANDARD
END:VTIMEZONE
BEGIN:VEVENT
DTSTART;VALUE=DATE:20260701
DTEND;VALUE=DATE:20260702
DTSTAMP:20260423T230345
CREATED:20251230T032539Z
LAST-MODIFIED:20251230T032539Z
UID:5923-1782864000-1782950399@www.riverleaohio.org
SUMMARY:July CoA Application Deadline
DESCRIPTION:Deadline to submit an application for a Certificate of Appropriateness for the next Planning Commission meeting scheduled in July
URL:https://www.riverleaohio.org/event/july-coa-application-deadline-8/
CATEGORIES:Planning Commission
END:VEVENT
BEGIN:VEVENT
DTSTART;TZID=America/New_York:20260706T190000
DTEND;TZID=America/New_York:20260706T210000
DTSTAMP:20260423T230345
CREATED:20251230T034141Z
LAST-MODIFIED:20251230T034141Z
UID:5953-1783364400-1783371600@www.riverleaohio.org
SUMMARY:Infrastructure Committee Meeting
DESCRIPTION:Monthy Infrastructure Committee Meeting.  Meets on the first Monday of each month.
URL:https://www.riverleaohio.org/event/infrastructure-committee-meeting-102/
LOCATION:Old Worthington Library – Owl Meeting Room\, 820 High St\, Worthington\, 43085\, United States
CATEGORIES:Committee Meetings,Infrastructure Committee
END:VEVENT
BEGIN:VEVENT
DTSTART;TZID=America/New_York:20260713T190000
DTEND;TZID=America/New_York:20260713T210000
DTSTAMP:20260423T230345
CREATED:20251230T032539Z
LAST-MODIFIED:20260414T220204Z
UID:5922-1783969200-1783976400@www.riverleaohio.org
SUMMARY:Planning Committee Meeting
DESCRIPTION:Monthly Planning Commission meeting. Meets on the second Monday of each month.
URL:https://www.riverleaohio.org/event/planning-committee-meeting-91/
LOCATION:Sharon Township Admin Building\, 95 E Wilson Bridge Rd\, Worthington\, OH\, 43085\, United States
CATEGORIES:Committee Meetings,Planning Commission
END:VEVENT
BEGIN:VEVENT
DTSTART;VALUE=DATE:20260726
DTEND;VALUE=DATE:20260727
DTSTAMP:20260423T230345
CREATED:20251230T032740Z
LAST-MODIFIED:20251230T032740Z
UID:5929-1785024000-1785110399@www.riverleaohio.org
SUMMARY:August Variance Application Deadline
DESCRIPTION:Deadline to submit an application for a Variance before the next Planning Commission Meeting scheduled in August.
URL:https://www.riverleaohio.org/event/august-variance-application-deadline-9/
CATEGORIES:Planning Commission
END:VEVENT
BEGIN:VEVENT
DTSTART;VALUE=DATE:20260729
DTEND;VALUE=DATE:20260730
DTSTAMP:20260423T230345
CREATED:20251230T032740Z
LAST-MODIFIED:20251230T032740Z
UID:5928-1785283200-1785369599@www.riverleaohio.org
SUMMARY:August CoA Application Deadline
DESCRIPTION:Deadline to submit an application for a Certificate of Appropriateness for the next Planning Commission meeting scheduled in August
URL:https://www.riverleaohio.org/event/august-coa-application-deadline-8/
CATEGORIES:Planning Commission
END:VEVENT
END:VCALENDAR