BEGIN:VCALENDAR
VERSION:2.0
PRODID:-//Village of Riverlea, Ohio - ECPv6.15.20//NONSGML v1.0//EN
CALSCALE:GREGORIAN
METHOD:PUBLISH
X-ORIGINAL-URL:https://www.riverleaohio.org
X-WR-CALDESC:Events for Village of Riverlea, Ohio
REFRESH-INTERVAL;VALUE=DURATION:PT1H
X-Robots-Tag:noindex
X-PUBLISHED-TTL:PT1H
BEGIN:VTIMEZONE
TZID:America/New_York
BEGIN:DAYLIGHT
TZOFFSETFROM:-0500
TZOFFSETTO:-0400
TZNAME:EDT
DTSTART:20210314T070000
END:DAYLIGHT
BEGIN:STANDARD
TZOFFSETFROM:-0400
TZOFFSETTO:-0500
TZNAME:EST
DTSTART:20211107T060000
END:STANDARD
BEGIN:DAYLIGHT
TZOFFSETFROM:-0500
TZOFFSETTO:-0400
TZNAME:EDT
DTSTART:20220313T070000
END:DAYLIGHT
BEGIN:STANDARD
TZOFFSETFROM:-0400
TZOFFSETTO:-0500
TZNAME:EST
DTSTART:20221106T060000
END:STANDARD
BEGIN:DAYLIGHT
TZOFFSETFROM:-0500
TZOFFSETTO:-0400
TZNAME:EDT
DTSTART:20230312T070000
END:DAYLIGHT
BEGIN:STANDARD
TZOFFSETFROM:-0400
TZOFFSETTO:-0500
TZNAME:EST
DTSTART:20231105T060000
END:STANDARD
BEGIN:DAYLIGHT
TZOFFSETFROM:-0500
TZOFFSETTO:-0400
TZNAME:EDT
DTSTART:20240310T070000
END:DAYLIGHT
BEGIN:STANDARD
TZOFFSETFROM:-0400
TZOFFSETTO:-0500
TZNAME:EST
DTSTART:20241103T060000
END:STANDARD
BEGIN:DAYLIGHT
TZOFFSETFROM:-0500
TZOFFSETTO:-0400
TZNAME:EDT
DTSTART:20250309T070000
END:DAYLIGHT
BEGIN:STANDARD
TZOFFSETFROM:-0400
TZOFFSETTO:-0500
TZNAME:EST
DTSTART:20251102T060000
END:STANDARD
BEGIN:DAYLIGHT
TZOFFSETFROM:-0500
TZOFFSETTO:-0400
TZNAME:EDT
DTSTART:20260308T070000
END:DAYLIGHT
BEGIN:STANDARD
TZOFFSETFROM:-0400
TZOFFSETTO:-0500
TZNAME:EST
DTSTART:20261101T060000
END:STANDARD
END:VTIMEZONE
BEGIN:VEVENT
DTSTART;TZID=America/New_York:20250602T190000
DTEND;TZID=America/New_York:20250602T210000
DTSTAMP:20260424T040313
CREATED:20241231T204103Z
LAST-MODIFIED:20241231T205221Z
UID:5598-1748890800-1748898000@www.riverleaohio.org
SUMMARY:Infrastructure Committee Meeting
DESCRIPTION:Monthy Infrastructure Committee Meeting.  Meets on the first Monday of each month.
URL:https://www.riverleaohio.org/event/infrastructure-committee-meeting-89/
LOCATION:Old Worthington Library – Owl Meeting Room\, 820 High St\, Worthington\, 43085\, United States
CATEGORIES:Committee Meetings,Infrastructure Committee
END:VEVENT
BEGIN:VEVENT
DTSTART;TZID=America/New_York:20250505T190000
DTEND;TZID=America/New_York:20250505T210000
DTSTAMP:20260424T040313
CREATED:20241231T204103Z
LAST-MODIFIED:20241231T205221Z
UID:5597-1746471600-1746478800@www.riverleaohio.org
SUMMARY:Infrastructure Committee Meeting
DESCRIPTION:Monthy Infrastructure Committee Meeting.  Meets on the first Monday of each month.
URL:https://www.riverleaohio.org/event/infrastructure-committee-meeting-88/
LOCATION:Old Worthington Library – Owl Meeting Room\, 820 High St\, Worthington\, 43085\, United States
CATEGORIES:Committee Meetings,Infrastructure Committee
END:VEVENT
BEGIN:VEVENT
DTSTART;TZID=America/New_York:20250407T190000
DTEND;TZID=America/New_York:20250407T210000
DTSTAMP:20260424T040313
CREATED:20241231T204102Z
LAST-MODIFIED:20241231T205220Z
UID:5596-1744052400-1744059600@www.riverleaohio.org
SUMMARY:Infrastructure Committee Meeting
DESCRIPTION:Monthy Infrastructure Committee Meeting.  Meets on the first Monday of each month.
URL:https://www.riverleaohio.org/event/infrastructure-committee-meeting-87/
LOCATION:Old Worthington Library – Owl Meeting Room\, 820 High St\, Worthington\, 43085\, United States
CATEGORIES:Committee Meetings,Infrastructure Committee
END:VEVENT
BEGIN:VEVENT
DTSTART;TZID=America/New_York:20250303T190000
DTEND;TZID=America/New_York:20250303T210000
DTSTAMP:20260424T040313
CREATED:20241231T204102Z
LAST-MODIFIED:20241231T205220Z
UID:5595-1741028400-1741035600@www.riverleaohio.org
SUMMARY:Infrastructure Committee Meeting
DESCRIPTION:Monthy Infrastructure Committee Meeting.  Meets on the first Monday of each month.
URL:https://www.riverleaohio.org/event/infrastructure-committee-meeting-86/
LOCATION:Old Worthington Library – Owl Meeting Room\, 820 High St\, Worthington\, 43085\, United States
CATEGORIES:Committee Meetings,Infrastructure Committee
END:VEVENT
BEGIN:VEVENT
DTSTART;TZID=America/New_York:20250203T190000
DTEND;TZID=America/New_York:20250203T210000
DTSTAMP:20260424T040313
CREATED:20241231T204101Z
LAST-MODIFIED:20241231T205220Z
UID:5594-1738609200-1738616400@www.riverleaohio.org
SUMMARY:Infrastructure Committee Meeting
DESCRIPTION:Monthy Infrastructure Committee Meeting.  Meets on the first Monday of each month.
URL:https://www.riverleaohio.org/event/infrastructure-committee-meeting-85/
LOCATION:Old Worthington Library – Owl Meeting Room\, 820 High St\, Worthington\, 43085\, United States
CATEGORIES:Committee Meetings,Infrastructure Committee
END:VEVENT
BEGIN:VEVENT
DTSTART;TZID=America/New_York:20250106T190000
DTEND;TZID=America/New_York:20250106T210000
DTSTAMP:20260424T040313
CREATED:20241231T204101Z
LAST-MODIFIED:20241231T205219Z
UID:5593-1736190000-1736197200@www.riverleaohio.org
SUMMARY:Infrastructure Committee Meeting
DESCRIPTION:Monthy Infrastructure Committee Meeting.  Meets on the first Monday of each month.
URL:https://www.riverleaohio.org/event/infrastructure-committee-meeting-84/
LOCATION:Old Worthington Library – Owl Meeting Room\, 820 High St\, Worthington\, 43085\, United States
CATEGORIES:Committee Meetings,Infrastructure Committee
END:VEVENT
BEGIN:VEVENT
DTSTART;TZID=America/New_York:20241007T190000
DTEND;TZID=America/New_York:20241007T203000
DTSTAMP:20260424T040313
CREATED:20240101T021634Z
LAST-MODIFIED:20240701T020604Z
UID:5231-1728327600-1728333000@www.riverleaohio.org
SUMMARY:Infrastructure Committee Meeting
DESCRIPTION:Monthy Infrastructure Committee Meeting. Meets on the first Monday of each month.
URL:https://www.riverleaohio.org/event/infrastructure-committee-meeting-83/
LOCATION:Old Worthington Library – Wolf Study Room\, 820 High Street\, Worthington\, OH\, 43085\, United States
CATEGORIES:Committee Meetings,Infrastructure Committee
END:VEVENT
BEGIN:VEVENT
DTSTART;TZID=America/New_York:20240902T190000
DTEND;TZID=America/New_York:20240902T210000
DTSTAMP:20260424T040313
CREATED:20240101T021634Z
LAST-MODIFIED:20240101T021635Z
UID:5230-1725303600-1725310800@www.riverleaohio.org
SUMMARY:Infrastructure Committee Meeting
DESCRIPTION:Monthy Infrastructure Committee Meeting.  Meets on the first Monday of each month.
URL:https://www.riverleaohio.org/event/infrastructure-committee-meeting-82/
LOCATION:Old Worthington Library – Wolf Study Room\, 820 High Street\, Worthington\, OH\, 43085\, United States
CATEGORIES:Committee Meetings,Infrastructure Committee
END:VEVENT
BEGIN:VEVENT
DTSTART;TZID=America/New_York:20240805T190000
DTEND;TZID=America/New_York:20240805T210000
DTSTAMP:20260424T040313
CREATED:20240101T021634Z
LAST-MODIFIED:20240101T021635Z
UID:5229-1722884400-1722891600@www.riverleaohio.org
SUMMARY:Infrastructure Committee Meeting
DESCRIPTION:Monthy Infrastructure Committee Meeting.  Meets on the first Monday of each month.
URL:https://www.riverleaohio.org/event/infrastructure-committee-meeting-81/
LOCATION:Old Worthington Library – Wolf Study Room\, 820 High Street\, Worthington\, OH\, 43085\, United States
CATEGORIES:Committee Meetings,Infrastructure Committee
END:VEVENT
BEGIN:VEVENT
DTSTART;TZID=America/New_York:20240701T190000
DTEND;TZID=America/New_York:20240701T203000
DTSTAMP:20260424T040313
CREATED:20240101T021634Z
LAST-MODIFIED:20240701T020743Z
UID:5228-1719860400-1719865800@www.riverleaohio.org
SUMMARY:Infrastructure Committee Meeting
DESCRIPTION:Monthy Infrastructure Committee Meeting. Meets on the first Monday of each month.
URL:https://www.riverleaohio.org/event/infrastructure-committee-meeting-80/
LOCATION:Old Worthington Library – Wolf Study Room\, 820 High Street\, Worthington\, OH\, 43085\, United States
CATEGORIES:Committee Meetings,Infrastructure Committee
END:VEVENT
BEGIN:VEVENT
DTSTART;TZID=America/New_York:20240603T190000
DTEND;TZID=America/New_York:20240603T210000
DTSTAMP:20260424T040313
CREATED:20240101T021633Z
LAST-MODIFIED:20240101T021635Z
UID:5227-1717441200-1717448400@www.riverleaohio.org
SUMMARY:Infrastructure Committee Meeting
DESCRIPTION:Monthy Infrastructure Committee Meeting.  Meets on the first Monday of each month.
URL:https://www.riverleaohio.org/event/infrastructure-committee-meeting-79/
LOCATION:Old Worthington Library – Wolf Study Room\, 820 High Street\, Worthington\, OH\, 43085\, United States
CATEGORIES:Committee Meetings,Infrastructure Committee
END:VEVENT
BEGIN:VEVENT
DTSTART;TZID=America/New_York:20240506T190000
DTEND;TZID=America/New_York:20240506T210000
DTSTAMP:20260424T040313
CREATED:20240101T021632Z
LAST-MODIFIED:20240101T021632Z
UID:5226-1715022000-1715029200@www.riverleaohio.org
SUMMARY:Infrastructure Committee Meeting
DESCRIPTION:Monthy Infrastructure Committee Meeting.  Meets on the first Monday of each month.
URL:https://www.riverleaohio.org/event/infrastructure-committee-meeting-78/
LOCATION:Old Worthington Library – Wolf Study Room\, 820 High Street\, Worthington\, OH\, 43085\, United States
CATEGORIES:Committee Meetings,Infrastructure Committee
END:VEVENT
BEGIN:VEVENT
DTSTART;TZID=America/New_York:20240401T190000
DTEND;TZID=America/New_York:20240401T210000
DTSTAMP:20260424T040313
CREATED:20240101T021632Z
LAST-MODIFIED:20240101T021632Z
UID:5225-1711998000-1712005200@www.riverleaohio.org
SUMMARY:Infrastructure Committee Meeting
DESCRIPTION:Monthy Infrastructure Committee Meeting.  Meets on the first Monday of each month.
URL:https://www.riverleaohio.org/event/infrastructure-committee-meeting-77/
LOCATION:Old Worthington Library – Wolf Study Room\, 820 High Street\, Worthington\, OH\, 43085\, United States
CATEGORIES:Committee Meetings,Infrastructure Committee
END:VEVENT
BEGIN:VEVENT
DTSTART;TZID=America/New_York:20240304T190000
DTEND;TZID=America/New_York:20240304T210000
DTSTAMP:20260424T040313
CREATED:20240101T021632Z
LAST-MODIFIED:20240101T021632Z
UID:5224-1709578800-1709586000@www.riverleaohio.org
SUMMARY:Infrastructure Committee Meeting
DESCRIPTION:Monthy Infrastructure Committee Meeting.  Meets on the first Monday of each month.
URL:https://www.riverleaohio.org/event/infrastructure-committee-meeting-76/
LOCATION:Old Worthington Library – Wolf Study Room\, 820 High Street\, Worthington\, OH\, 43085\, United States
CATEGORIES:Committee Meetings,Infrastructure Committee
END:VEVENT
BEGIN:VEVENT
DTSTART;TZID=America/New_York:20240205T190000
DTEND;TZID=America/New_York:20240205T210000
DTSTAMP:20260424T040313
CREATED:20240101T021632Z
LAST-MODIFIED:20240101T021632Z
UID:5223-1707159600-1707166800@www.riverleaohio.org
SUMMARY:Infrastructure Committee Meeting
DESCRIPTION:Monthy Infrastructure Committee Meeting.  Meets on the first Monday of each month.
URL:https://www.riverleaohio.org/event/infrastructure-committee-meeting-75/
LOCATION:Old Worthington Library – Wolf Study Room\, 820 High Street\, Worthington\, OH\, 43085\, United States
CATEGORIES:Committee Meetings,Infrastructure Committee
END:VEVENT
BEGIN:VEVENT
DTSTART;TZID=America/New_York:20240101T190000
DTEND;TZID=America/New_York:20240101T210000
DTSTAMP:20260424T040313
CREATED:20240101T021631Z
LAST-MODIFIED:20240101T021631Z
UID:5222-1704135600-1704142800@www.riverleaohio.org
SUMMARY:Infrastructure Committee Meeting
DESCRIPTION:Monthy Infrastructure Committee Meeting.  Meets on the first Monday of each month.
URL:https://www.riverleaohio.org/event/infrastructure-committee-meeting-74/
LOCATION:Old Worthington Library – Wolf Study Room\, 820 High Street\, Worthington\, OH\, 43085\, United States
CATEGORIES:Committee Meetings,Infrastructure Committee
END:VEVENT
BEGIN:VEVENT
DTSTART;TZID=America/New_York:20231204T190000
DTEND;TZID=America/New_York:20231204T210000
DTSTAMP:20260424T040313
CREATED:20221227T184543Z
LAST-MODIFIED:20221227T184543Z
UID:5041-1701716400-1701723600@www.riverleaohio.org
SUMMARY:Infrastructure Committee Meeting
DESCRIPTION:Monthy Infrastructure Committee Meeting.  Meets on the first Monday of each month.
URL:https://www.riverleaohio.org/event/infrastructure-committee-meeting-73/
LOCATION:Old Worthington Library – Wolf Study Room\, 820 High Street\, Worthington\, OH\, 43085\, United States
CATEGORIES:Committee Meetings,Infrastructure Committee
END:VEVENT
BEGIN:VEVENT
DTSTART;TZID=America/New_York:20231106T190000
DTEND;TZID=America/New_York:20231106T210000
DTSTAMP:20260424T040313
CREATED:20221227T184543Z
LAST-MODIFIED:20221227T184543Z
UID:5040-1699297200-1699304400@www.riverleaohio.org
SUMMARY:Infrastructure Committee Meeting
DESCRIPTION:Monthy Infrastructure Committee Meeting.  Meets on the first Monday of each month.
URL:https://www.riverleaohio.org/event/infrastructure-committee-meeting-72/
LOCATION:Old Worthington Library – Wolf Study Room\, 820 High Street\, Worthington\, OH\, 43085\, United States
CATEGORIES:Committee Meetings,Infrastructure Committee
END:VEVENT
BEGIN:VEVENT
DTSTART;TZID=America/New_York:20231002T190000
DTEND;TZID=America/New_York:20231002T210000
DTSTAMP:20260424T040313
CREATED:20221227T184542Z
LAST-MODIFIED:20221227T184542Z
UID:5039-1696273200-1696280400@www.riverleaohio.org
SUMMARY:Infrastructure Committee Meeting
DESCRIPTION:Monthy Infrastructure Committee Meeting.  Meets on the first Monday of each month.
URL:https://www.riverleaohio.org/event/infrastructure-committee-meeting-71/
LOCATION:Old Worthington Library – Wolf Study Room\, 820 High Street\, Worthington\, OH\, 43085\, United States
CATEGORIES:Committee Meetings,Infrastructure Committee
END:VEVENT
BEGIN:VEVENT
DTSTART;TZID=America/New_York:20230904T190000
DTEND;TZID=America/New_York:20230904T210000
DTSTAMP:20260424T040313
CREATED:20221227T184541Z
LAST-MODIFIED:20221227T184541Z
UID:5038-1693854000-1693861200@www.riverleaohio.org
SUMMARY:Infrastructure Committee Meeting
DESCRIPTION:Monthy Infrastructure Committee Meeting.  Meets on the first Monday of each month.
URL:https://www.riverleaohio.org/event/infrastructure-committee-meeting-70/
LOCATION:Old Worthington Library – Wolf Study Room\, 820 High Street\, Worthington\, OH\, 43085\, United States
CATEGORIES:Committee Meetings,Infrastructure Committee
END:VEVENT
BEGIN:VEVENT
DTSTART;TZID=America/New_York:20230807T190000
DTEND;TZID=America/New_York:20230807T210000
DTSTAMP:20260424T040313
CREATED:20221227T184541Z
LAST-MODIFIED:20221227T184541Z
UID:5037-1691434800-1691442000@www.riverleaohio.org
SUMMARY:Infrastructure Committee Meeting
DESCRIPTION:Monthy Infrastructure Committee Meeting.  Meets on the first Monday of each month.
URL:https://www.riverleaohio.org/event/infrastructure-committee-meeting-69/
LOCATION:Old Worthington Library – Wolf Study Room\, 820 High Street\, Worthington\, OH\, 43085\, United States
CATEGORIES:Committee Meetings,Infrastructure Committee
END:VEVENT
BEGIN:VEVENT
DTSTART;TZID=America/New_York:20230703T190000
DTEND;TZID=America/New_York:20230703T210000
DTSTAMP:20260424T040313
CREATED:20221227T184541Z
LAST-MODIFIED:20221227T184541Z
UID:5036-1688410800-1688418000@www.riverleaohio.org
SUMMARY:Infrastructure Committee Meeting
DESCRIPTION:Monthy Infrastructure Committee Meeting.  Meets on the first Monday of each month.
URL:https://www.riverleaohio.org/event/infrastructure-committee-meeting-68/
LOCATION:Old Worthington Library – Wolf Study Room\, 820 High Street\, Worthington\, OH\, 43085\, United States
CATEGORIES:Committee Meetings,Infrastructure Committee
END:VEVENT
BEGIN:VEVENT
DTSTART;TZID=America/New_York:20230605T190000
DTEND;TZID=America/New_York:20230605T210000
DTSTAMP:20260424T040313
CREATED:20221227T184541Z
LAST-MODIFIED:20221227T184541Z
UID:5035-1685991600-1685998800@www.riverleaohio.org
SUMMARY:Infrastructure Committee Meeting
DESCRIPTION:Monthy Infrastructure Committee Meeting.  Meets on the first Monday of each month.
URL:https://www.riverleaohio.org/event/infrastructure-committee-meeting-67/
LOCATION:Old Worthington Library – Wolf Study Room\, 820 High Street\, Worthington\, OH\, 43085\, United States
CATEGORIES:Committee Meetings,Infrastructure Committee
END:VEVENT
BEGIN:VEVENT
DTSTART;TZID=America/New_York:20230501T190000
DTEND;TZID=America/New_York:20230501T210000
DTSTAMP:20260424T040313
CREATED:20221227T184539Z
LAST-MODIFIED:20221227T184539Z
UID:5034-1682967600-1682974800@www.riverleaohio.org
SUMMARY:Infrastructure Committee Meeting
DESCRIPTION:Monthy Infrastructure Committee Meeting.  Meets on the first Monday of each month.
URL:https://www.riverleaohio.org/event/infrastructure-committee-meeting-66/
LOCATION:Old Worthington Library – Wolf Study Room\, 820 High Street\, Worthington\, OH\, 43085\, United States
CATEGORIES:Committee Meetings,Infrastructure Committee
END:VEVENT
BEGIN:VEVENT
DTSTART;TZID=America/New_York:20230403T190000
DTEND;TZID=America/New_York:20230403T210000
DTSTAMP:20260424T040313
CREATED:20221227T184539Z
LAST-MODIFIED:20221227T184539Z
UID:5033-1680548400-1680555600@www.riverleaohio.org
SUMMARY:Infrastructure Committee Meeting
DESCRIPTION:Monthy Infrastructure Committee Meeting.  Meets on the first Monday of each month.
URL:https://www.riverleaohio.org/event/infrastructure-committee-meeting-65/
LOCATION:Old Worthington Library – Wolf Study Room\, 820 High Street\, Worthington\, OH\, 43085\, United States
CATEGORIES:Committee Meetings,Infrastructure Committee
END:VEVENT
BEGIN:VEVENT
DTSTART;TZID=America/New_York:20230306T190000
DTEND;TZID=America/New_York:20230306T210000
DTSTAMP:20260424T040313
CREATED:20221227T184538Z
LAST-MODIFIED:20221227T184538Z
UID:5032-1678129200-1678136400@www.riverleaohio.org
SUMMARY:Infrastructure Committee Meeting
DESCRIPTION:Monthy Infrastructure Committee Meeting.  Meets on the first Monday of each month.
URL:https://www.riverleaohio.org/event/infrastructure-committee-meeting-64/
LOCATION:Old Worthington Library – Wolf Study Room\, 820 High Street\, Worthington\, OH\, 43085\, United States
CATEGORIES:Committee Meetings,Infrastructure Committee
END:VEVENT
BEGIN:VEVENT
DTSTART;TZID=America/New_York:20230206T190000
DTEND;TZID=America/New_York:20230206T210000
DTSTAMP:20260424T040313
CREATED:20221227T184538Z
LAST-MODIFIED:20221227T184538Z
UID:5031-1675710000-1675717200@www.riverleaohio.org
SUMMARY:Infrastructure Committee Meeting
DESCRIPTION:Monthy Infrastructure Committee Meeting.  Meets on the first Monday of each month.
URL:https://www.riverleaohio.org/event/infrastructure-committee-meeting-63/
LOCATION:Old Worthington Library – Wolf Study Room\, 820 High Street\, Worthington\, OH\, 43085\, United States
CATEGORIES:Committee Meetings,Infrastructure Committee
END:VEVENT
BEGIN:VEVENT
DTSTART;TZID=America/New_York:20230102T190000
DTEND;TZID=America/New_York:20230102T210000
DTSTAMP:20260424T040313
CREATED:20221227T184538Z
LAST-MODIFIED:20221227T184538Z
UID:5030-1672686000-1672693200@www.riverleaohio.org
SUMMARY:Infrastructure Committee Meeting
DESCRIPTION:Monthy Infrastructure Committee Meeting.  Meets on the first Monday of each month.
URL:https://www.riverleaohio.org/event/infrastructure-committee-meeting-62/
LOCATION:Old Worthington Library – Wolf Study Room\, 820 High Street\, Worthington\, OH\, 43085\, United States
CATEGORIES:Committee Meetings,Infrastructure Committee
END:VEVENT
BEGIN:VEVENT
DTSTART;TZID=America/New_York:20221205T190000
DTEND;TZID=America/New_York:20221205T210000
DTSTAMP:20260424T040313
CREATED:20220103T222845Z
LAST-MODIFIED:20220103T222845Z
UID:4796-1670266800-1670274000@www.riverleaohio.org
SUMMARY:Infrastructure Committee Meeting
DESCRIPTION:Monthy Infrastructure Committee Meeting.  Meets on the first Monday of each month.
URL:https://www.riverleaohio.org/event/infrastructure-committee-meeting-61/
LOCATION:Old Worthington Library – Wolf Study Room\, 820 High Street\, Worthington\, OH\, 43085\, United States
CATEGORIES:Committee Meetings,Infrastructure Committee
END:VEVENT
BEGIN:VEVENT
DTSTART;TZID=America/New_York:20221107T190000
DTEND;TZID=America/New_York:20221107T210000
DTSTAMP:20260424T040313
CREATED:20220103T222845Z
LAST-MODIFIED:20220103T222845Z
UID:4795-1667847600-1667854800@www.riverleaohio.org
SUMMARY:Infrastructure Committee Meeting
DESCRIPTION:Monthy Infrastructure Committee Meeting.  Meets on the first Monday of each month.
URL:https://www.riverleaohio.org/event/infrastructure-committee-meeting-60/
LOCATION:Old Worthington Library – Wolf Study Room\, 820 High Street\, Worthington\, OH\, 43085\, United States
CATEGORIES:Committee Meetings,Infrastructure Committee
END:VEVENT
END:VCALENDAR