BEGIN:VCALENDAR
VERSION:2.0
PRODID:-//Village of Riverlea, Ohio - ECPv6.15.20//NONSGML v1.0//EN
CALSCALE:GREGORIAN
METHOD:PUBLISH
X-WR-CALNAME:Village of Riverlea, Ohio
X-ORIGINAL-URL:https://www.riverleaohio.org
X-WR-CALDESC:Events for Village of Riverlea, Ohio
REFRESH-INTERVAL;VALUE=DURATION:PT1H
X-Robots-Tag:noindex
X-PUBLISHED-TTL:PT1H
BEGIN:VTIMEZONE
TZID:America/New_York
BEGIN:DAYLIGHT
TZOFFSETFROM:-0500
TZOFFSETTO:-0400
TZNAME:EDT
DTSTART:20170312T070000
END:DAYLIGHT
BEGIN:STANDARD
TZOFFSETFROM:-0400
TZOFFSETTO:-0500
TZNAME:EST
DTSTART:20171105T060000
END:STANDARD
BEGIN:DAYLIGHT
TZOFFSETFROM:-0500
TZOFFSETTO:-0400
TZNAME:EDT
DTSTART:20180311T070000
END:DAYLIGHT
BEGIN:STANDARD
TZOFFSETFROM:-0400
TZOFFSETTO:-0500
TZNAME:EST
DTSTART:20181104T060000
END:STANDARD
BEGIN:DAYLIGHT
TZOFFSETFROM:-0500
TZOFFSETTO:-0400
TZNAME:EDT
DTSTART:20190310T070000
END:DAYLIGHT
BEGIN:STANDARD
TZOFFSETFROM:-0400
TZOFFSETTO:-0500
TZNAME:EST
DTSTART:20191103T060000
END:STANDARD
BEGIN:DAYLIGHT
TZOFFSETFROM:-0500
TZOFFSETTO:-0400
TZNAME:EDT
DTSTART:20200308T070000
END:DAYLIGHT
BEGIN:STANDARD
TZOFFSETFROM:-0400
TZOFFSETTO:-0500
TZNAME:EST
DTSTART:20201101T060000
END:STANDARD
BEGIN:DAYLIGHT
TZOFFSETFROM:-0500
TZOFFSETTO:-0400
TZNAME:EDT
DTSTART:20210314T070000
END:DAYLIGHT
BEGIN:STANDARD
TZOFFSETFROM:-0400
TZOFFSETTO:-0500
TZNAME:EST
DTSTART:20211107T060000
END:STANDARD
END:VTIMEZONE
BEGIN:VEVENT
DTSTART;TZID=America/New_York:20200106T190000
DTEND;TZID=America/New_York:20200106T210000
DTSTAMP:20260424T121714
CREATED:20191231T204026Z
LAST-MODIFIED:20191231T204026Z
UID:3991-1578337200-1578344400@www.riverleaohio.org
SUMMARY:Infrastructure Committee Meeting
DESCRIPTION:Monthy Infrastructure Committee Meeting.  Meets on the first Monday of each month.
URL:https://www.riverleaohio.org/event/infrastructure-committee-meeting-26/
LOCATION:Community of Christ Church\, 110 Park Street\, Worthington\, 43085\, United States
CATEGORIES:Committee Meetings,Infrastructure Committee
END:VEVENT
BEGIN:VEVENT
DTSTART;TZID=America/New_York:20180205T190000
DTEND;TZID=America/New_York:20180205T210000
DTSTAMP:20260424T121714
CREATED:20180220T032557Z
LAST-MODIFIED:20180220T040235Z
UID:2758-1517857200-1517864400@www.riverleaohio.org
SUMMARY:Infrastructure Committee Meeting
DESCRIPTION:Monthy Infrastructure Committee Meeting. Meets on the first Monday of each month.
URL:https://www.riverleaohio.org/event/infrastructure-committee-meeting-2/
LOCATION:Community of Christ Church\, 110 Park Street\, Worthington\, 43085\, United States
CATEGORIES:Committee Meetings,Infrastructure Committee
END:VEVENT
BEGIN:VEVENT
DTSTART;TZID=America/New_York:20180101T190000
DTEND;TZID=America/New_York:20180101T210000
DTSTAMP:20260424T121714
CREATED:20180220T032557Z
LAST-MODIFIED:20180220T040258Z
UID:2757-1514833200-1514840400@www.riverleaohio.org
SUMMARY:Infrastructure Committee Meeting
DESCRIPTION:Monthy Infrastructure Committee Meeting. Meets on the first Monday of each month.
URL:https://www.riverleaohio.org/event/infrastructure-committee-meeting/
LOCATION:Community of Christ Church\, 110 Park Street\, Worthington\, 43085\, United States
CATEGORIES:Committee Meetings,Infrastructure Committee
END:VEVENT
END:VCALENDAR