BEGIN:VCALENDAR
VERSION:2.0
PRODID:-//Village of Riverlea, Ohio - ECPv6.15.20//NONSGML v1.0//EN
CALSCALE:GREGORIAN
METHOD:PUBLISH
X-ORIGINAL-URL:https://www.riverleaohio.org
X-WR-CALDESC:Events for Village of Riverlea, Ohio
REFRESH-INTERVAL;VALUE=DURATION:PT1H
X-Robots-Tag:noindex
X-PUBLISHED-TTL:PT1H
BEGIN:VTIMEZONE
TZID:America/New_York
BEGIN:DAYLIGHT
TZOFFSETFROM:-0500
TZOFFSETTO:-0400
TZNAME:EDT
DTSTART:20250309T070000
END:DAYLIGHT
BEGIN:STANDARD
TZOFFSETFROM:-0400
TZOFFSETTO:-0500
TZNAME:EST
DTSTART:20251102T060000
END:STANDARD
BEGIN:DAYLIGHT
TZOFFSETFROM:-0500
TZOFFSETTO:-0400
TZNAME:EDT
DTSTART:20260308T070000
END:DAYLIGHT
BEGIN:STANDARD
TZOFFSETFROM:-0400
TZOFFSETTO:-0500
TZNAME:EST
DTSTART:20261101T060000
END:STANDARD
BEGIN:DAYLIGHT
TZOFFSETFROM:-0500
TZOFFSETTO:-0400
TZNAME:EDT
DTSTART:20270314T070000
END:DAYLIGHT
BEGIN:STANDARD
TZOFFSETFROM:-0400
TZOFFSETTO:-0500
TZNAME:EST
DTSTART:20271107T060000
END:STANDARD
END:VTIMEZONE
BEGIN:VEVENT
DTSTART;TZID=America/New_York:20260914T190000
DTEND;TZID=America/New_York:20260914T210000
DTSTAMP:20260424T022737
CREATED:20251230T032740Z
LAST-MODIFIED:20260414T220116Z
UID:5930-1789412400-1789419600@www.riverleaohio.org
SUMMARY:Planning Committee Meeting
DESCRIPTION:Monthly Planning Commission meeting. Meets on the second Monday of each month.
URL:https://www.riverleaohio.org/event/planning-committee-meeting-93/
LOCATION:Sharon Township Admin Building\, 95 E Wilson Bridge Rd\, Worthington\, OH\, 43085\, United States
CATEGORIES:Committee Meetings,Planning Commission
END:VEVENT
BEGIN:VEVENT
DTSTART;VALUE=DATE:20260927
DTEND;VALUE=DATE:20260928
DTSTAMP:20260424T022737
CREATED:20251230T032941Z
LAST-MODIFIED:20251230T032941Z
UID:5936-1790467200-1790553599@www.riverleaohio.org
SUMMARY:October Variance Application Deadline
DESCRIPTION:Deadline to submit an application for a Variance before the next Planning Commission Meeting scheduled in October
URL:https://www.riverleaohio.org/event/october-variance-application-deadline-8/
CATEGORIES:Planning Commission
END:VEVENT
BEGIN:VEVENT
DTSTART;VALUE=DATE:20260930
DTEND;VALUE=DATE:20261001
DTSTAMP:20260424T022737
CREATED:20251230T032941Z
LAST-MODIFIED:20251230T032941Z
UID:5935-1790726400-1790812799@www.riverleaohio.org
SUMMARY:October CoA Application Deadline
DESCRIPTION:Deadline to submit an application for a Certificate of Appropriateness for the next Planning Commission meeting scheduled in October
URL:https://www.riverleaohio.org/event/october-coa-application-deadline-8/
CATEGORIES:Planning Commission
END:VEVENT
BEGIN:VEVENT
DTSTART;TZID=America/New_York:20261005T190000
DTEND;TZID=America/New_York:20261005T210000
DTSTAMP:20260424T022737
CREATED:20251230T034142Z
LAST-MODIFIED:20251230T034142Z
UID:5956-1791226800-1791234000@www.riverleaohio.org
SUMMARY:Infrastructure Committee Meeting
DESCRIPTION:Monthy Infrastructure Committee Meeting.  Meets on the first Monday of each month.
URL:https://www.riverleaohio.org/event/infrastructure-committee-meeting-105/
LOCATION:Old Worthington Library – Owl Meeting Room\, 820 High St\, Worthington\, 43085\, United States
CATEGORIES:Committee Meetings,Infrastructure Committee
END:VEVENT
BEGIN:VEVENT
DTSTART;TZID=America/New_York:20261012T190000
DTEND;TZID=America/New_York:20261012T210000
DTSTAMP:20260424T022737
CREATED:20251230T032940Z
LAST-MODIFIED:20260414T220056Z
UID:5934-1791831600-1791838800@www.riverleaohio.org
SUMMARY:Planning Committee Meeting
DESCRIPTION:Monthly Planning Commission meeting. Meets on the second Monday of each month.
URL:https://www.riverleaohio.org/event/planning-committee-meeting-94/
LOCATION:Sharon Township Admin Building\, 95 E Wilson Bridge Rd\, Worthington\, OH\, 43085\, United States
CATEGORIES:Committee Meetings,Planning Commission
END:VEVENT
BEGIN:VEVENT
DTSTART;VALUE=DATE:20261025
DTEND;VALUE=DATE:20261026
DTSTAMP:20260424T022737
CREATED:20251230T033142Z
LAST-MODIFIED:20251230T033142Z
UID:5939-1792886400-1792972799@www.riverleaohio.org
SUMMARY:November Variance Application Deadline
DESCRIPTION:Deadline to submit an application for a Variance before the next Planning Commission Meeting scheduled in November
URL:https://www.riverleaohio.org/event/november-variance-application-deadline-8/
CATEGORIES:Planning Commission
END:VEVENT
BEGIN:VEVENT
DTSTART;VALUE=DATE:20261028
DTEND;VALUE=DATE:20261029
DTSTAMP:20260424T022737
CREATED:20251230T033141Z
LAST-MODIFIED:20251230T033141Z
UID:5938-1793145600-1793231999@www.riverleaohio.org
SUMMARY:November CoA Application Deadline
DESCRIPTION:Deadline to submit an application for a Certificate of Appropriateness for the next Planning Commission meeting scheduled in November
URL:https://www.riverleaohio.org/event/november-coa-application-deadline-8/
CATEGORIES:Planning Commission
END:VEVENT
BEGIN:VEVENT
DTSTART;TZID=America/New_York:20261109T190000
DTEND;TZID=America/New_York:20261109T210000
DTSTAMP:20260424T022737
CREATED:20251230T033141Z
LAST-MODIFIED:20260414T220030Z
UID:5937-1794250800-1794258000@www.riverleaohio.org
SUMMARY:Planning Committee Meeting
DESCRIPTION:Monthly Planning Commission meeting. Meets on the second Monday of each month.
URL:https://www.riverleaohio.org/event/planning-committee-meeting-95/
LOCATION:Sharon Township Admin Building\, 95 E Wilson Bridge Rd\, Worthington\, OH\, 43085\, United States
CATEGORIES:Committee Meetings,Planning Commission
END:VEVENT
BEGIN:VEVENT
DTSTART;VALUE=DATE:20261129
DTEND;VALUE=DATE:20261130
DTSTAMP:20260424T022737
CREATED:20251230T033148Z
LAST-MODIFIED:20251230T033148Z
UID:5942-1795910400-1795996799@www.riverleaohio.org
SUMMARY:December Variance Application Deadline
DESCRIPTION:Deadline to submit an application for a Variance before the next Planning Commission Meeting scheduled in December
URL:https://www.riverleaohio.org/event/december-variance-application-deadline-7/
CATEGORIES:Planning Commission
END:VEVENT
BEGIN:VEVENT
DTSTART;VALUE=DATE:20261202
DTEND;VALUE=DATE:20261203
DTSTAMP:20260424T022737
CREATED:20251230T033142Z
LAST-MODIFIED:20251230T033142Z
UID:5941-1796169600-1796255999@www.riverleaohio.org
SUMMARY:December CoA Application Deadline
DESCRIPTION:Deadline to submit an application for a Certificate of Appropriateness for the next Planning Commission meeting scheduled in December
URL:https://www.riverleaohio.org/event/december-coa-application-deadline-8/
CATEGORIES:Planning Commission
END:VEVENT
BEGIN:VEVENT
DTSTART;TZID=America/New_York:20261214T190000
DTEND;TZID=America/New_York:20261214T210000
DTSTAMP:20260424T022737
CREATED:20251230T033142Z
LAST-MODIFIED:20260414T215945Z
UID:5940-1797274800-1797282000@www.riverleaohio.org
SUMMARY:Planning Committee Meeting
DESCRIPTION:Monthly Planning Commission meeting. Meets on the second Monday of each month.
URL:https://www.riverleaohio.org/event/planning-committee-meeting-96/
LOCATION:Sharon Township Admin Building\, 95 E Wilson Bridge Rd\, Worthington\, OH\, 43085\, United States
CATEGORIES:Committee Meetings,Planning Commission
END:VEVENT
END:VCALENDAR