BEGIN:VCALENDAR
VERSION:2.0
PRODID:-//Village of Riverlea, Ohio - ECPv6.15.20//NONSGML v1.0//EN
CALSCALE:GREGORIAN
METHOD:PUBLISH
X-ORIGINAL-URL:https://www.riverleaohio.org
X-WR-CALDESC:Events for Village of Riverlea, Ohio
REFRESH-INTERVAL;VALUE=DURATION:PT1H
X-Robots-Tag:noindex
X-PUBLISHED-TTL:PT1H
BEGIN:VTIMEZONE
TZID:America/New_York
BEGIN:DAYLIGHT
TZOFFSETFROM:-0500
TZOFFSETTO:-0400
TZNAME:EDT
DTSTART:20250309T070000
END:DAYLIGHT
BEGIN:STANDARD
TZOFFSETFROM:-0400
TZOFFSETTO:-0500
TZNAME:EST
DTSTART:20251102T060000
END:STANDARD
BEGIN:DAYLIGHT
TZOFFSETFROM:-0500
TZOFFSETTO:-0400
TZNAME:EDT
DTSTART:20260308T070000
END:DAYLIGHT
BEGIN:STANDARD
TZOFFSETFROM:-0400
TZOFFSETTO:-0500
TZNAME:EST
DTSTART:20261101T060000
END:STANDARD
BEGIN:DAYLIGHT
TZOFFSETFROM:-0500
TZOFFSETTO:-0400
TZNAME:EDT
DTSTART:20270314T070000
END:DAYLIGHT
BEGIN:STANDARD
TZOFFSETFROM:-0400
TZOFFSETTO:-0500
TZNAME:EST
DTSTART:20271107T060000
END:STANDARD
END:VTIMEZONE
BEGIN:VEVENT
DTSTART;VALUE=DATE:20260426
DTEND;VALUE=DATE:20260427
DTSTAMP:20260423T200107
CREATED:20251230T032338Z
LAST-MODIFIED:20251230T034146Z
UID:5918-1777161600-1777247999@www.riverleaohio.org
SUMMARY:May Variance Application Deadline
DESCRIPTION:Deadline to submit an application for a Variance before the next Planning Commission Meeting scheduled in May
URL:https://www.riverleaohio.org/event/may-variance-application-deadline-9/
CATEGORIES:Planning Commission
END:VEVENT
BEGIN:VEVENT
DTSTART;VALUE=DATE:20260429
DTEND;VALUE=DATE:20260430
DTSTAMP:20260423T200107
CREATED:20251230T032338Z
LAST-MODIFIED:20251230T034146Z
UID:5917-1777420800-1777507199@www.riverleaohio.org
SUMMARY:May CoA Application Deadline
DESCRIPTION:Deadline to submit an application for a Certificate of Appropriateness for the next Planning Commission meeting scheduled in May
URL:https://www.riverleaohio.org/event/may-coa-application-deadline-9/
CATEGORIES:Planning Commission
END:VEVENT
END:VCALENDAR